BEGIN:VCALENDAR
VERSION:2.0
PRODID:-//eventon.com NONSGML v1.0//EN
BEGIN:VEVENT
UID:69eb3c7e9a621
DTSTAMP:20260424T054846
DTSTART:20200321T200000Z
DTEND:20200322T020000Z
TZID:America/New_York
LOCATION:Land O&#039; Lakes Heritage Park 
SUMMARY:5th Annual Land O' Lakes Music Festival
DESCRIPTION: Join The Greater Pasco Chamber of Commerce for the 5th Annual Land O&#8217; Lakes Music Festival !\nhttps://flsportscoast.com/event/5th-annual-land-o-lakes-music-festival/
URL:https://flsportscoast.com/event/5th-annual-land-o-lakes-music-festival/
END:VEVENT
END:VCALENDAR