BEGIN:VCALENDAR
VERSION:2.0
PRODID:-//eventon.com NONSGML v1.0//EN
BEGIN:VEVENT
UID:69e55c5b7d76c
DTSTAMP:20260419T185107
DTSTART:20191116T220000Z
DTEND:20191117T020000Z
TZID:America/New_York
LOCATION:The Shops at Wiregrass 28211 Pasco Drive
SUMMARY:Symphony in Lights Tree Lighting & Santa's Arrival
DESCRIPTION: Join The Shops at Wiregrass for an amazing holiday light show\,  as they celebrate the lighting of the tree! Enjoy a lively array of lights\,  décor\,  &amp; snow. &nbsp; Get your list ready as Santa Clause arrives to The Shops at Wiregrass for the holiday season.\nhttps://flsportscoast.com/event/symphony-in-lights-tree-lighting-santas-arrival/
URL:https://flsportscoast.com/event/symphony-in-lights-tree-lighting-santas-arrival/
END:VEVENT
END:VCALENDAR