BEGIN:VCALENDAR
VERSION:2.0
PRODID:-//eventon.com NONSGML v1.0//EN
BEGIN:VEVENT
UID:69eb3c93ac6bc
DTSTAMP:20260424T054907
DTSTART:20190907T210000Z
DTEND:20190908T010000Z
TZID:America/New_York
LOCATION:Ordinance One 5738 Main Street 
SUMMARY:The Ritual Beer Fest
DESCRIPTION: You definitely won&#8217;t want to miss out on The Ritual Beer Fest! Some of the breweries that will be featured are Founder Brewing Co.\,  7th Sun Brewery\,  Escape Brewing Company\,  B. Nektar\,  Toppling Goliath Brewing\,  Sierra Nevada\,  Narragansett Beer\,  Rekorderlig Cider\,   as well as many others! The Westside Deli will[..]\nhttps://flsportscoast.com/event/the-ritual-beer-fest/
URL:https://flsportscoast.com/event/the-ritual-beer-fest/
END:VEVENT
END:VCALENDAR