BEGIN:VCALENDAR
VERSION:2.0
PRODID:-//eventon.com NONSGML v1.0//EN
BEGIN:VEVENT
UID:69eb3cb30257f
DTSTAMP:20260424T054939
DTSTART:20190822T220000Z
DTEND:20190822T233000Z
TZID:America/New_York
LOCATION:The White Heron Tea &amp; Gifts 6228 Grand Blvd
SUMMARY:How Many Types of Tea Are There?- Exploring Tea Series
DESCRIPTION: Join White Heron Tea &amp; Gifts for a tea tasting experience! This tasting workshop will have you exploring several different types of tea. You&#8217;ll learn where the teas come from and how to properly make and enjoy them. $10 per person\,  includes class and tasting each of the teas. MUST[..]\nhttps://flsportscoast.com/event/how-many-types-of-tea-are-there-exploring-tea-series/
URL:https://flsportscoast.com/event/how-many-types-of-tea-are-there-exploring-tea-series/
END:VEVENT
END:VCALENDAR