BEGIN:VCALENDAR
VERSION:2.0
PRODID:-//eventon.com NONSGML v1.0//EN
BEGIN:VEVENT
UID:69eb1d362dd45
DTSTAMP:20260424T033518
DTSTART:20260605T230000Z
DTEND:20260606T010000Z
TZID:America/New_York
LOCATION:Sims Park 6341 Bank Street
SUMMARY:Concert in the Park: Mullins Music Rock Week Showcase
DESCRIPTION: Students from Mullins Music’s Rock Week Summer Camp will take the stage at Sims Park for a special performance. The concert will feature several student bands that are formed during Rock Week—an annual tradition at Mullins Music since 2007. Every performer will showcase the skills and talents they’ve honed in[..]\nhttps://flsportscoast.com/event/concert-in-the-park-mullins-music-rock-week-showcase/
URL:https://flsportscoast.com/event/concert-in-the-park-mullins-music-rock-week-showcase/
END:VEVENT
END:VCALENDAR