BEGIN:VCALENDAR
VERSION:2.0
PRODID:-//eventon.com NONSGML v1.0//EN
BEGIN:VEVENT
UID:69eb54d583abb
DTSTAMP:20260424T073237
DTSTART:20260516T230000Z
DTEND:20260517T010000Z
TZID:America/New_York
LOCATION:Sims Park 6341 Bank Street
SUMMARY:Concert in the Park: The Fulcos
DESCRIPTION: Making their Sims Park debut\,  The Fulcos are a powerhouse family band led by Joey Fulco\,  a self-taught multi-instrumentalist who has shared the stage with legends and written more than 300 songs. His sons\,  Jesse and Dominick\,  have built their own following with viral music\,  international promotion\,  more than 200[..]\nhttps://flsportscoast.com/event/concert-in-the-park-the-fulcos/
URL:https://flsportscoast.com/event/concert-in-the-park-the-fulcos/
END:VEVENT
END:VCALENDAR