BEGIN:VCALENDAR
VERSION:2.0
PRODID:-//eventon.com NONSGML v1.0//EN
BEGIN:VEVENT
UID:69eb540bd3ee0
DTSTAMP:20260424T072915
DTSTART:20260418T230000Z
DTEND:20260419T010000Z
TZID:America/New_York
LOCATION:Sims Park 6341 Bank Street
SUMMARY:Concert in the Park: The Caribbean Chillers
DESCRIPTION: Florida’s favorite tribute to Jimmy Buffett returns to the stage at Sims Park. Parrot Heads are invited to soak in the sights\,  sounds\,  and laid-back spirit of a live Jimmy Buffett experience. There will be margarita mocktails\,  a best dressed costume contest and a giant inflatable parrot might make an[..]\nhttps://flsportscoast.com/event/concert-in-the-park-the-caribbean-chillers/
URL:https://flsportscoast.com/event/concert-in-the-park-the-caribbean-chillers/
END:VEVENT
END:VCALENDAR