BEGIN:VCALENDAR
VERSION:2.0
PRODID:-//eventon.com NONSGML v1.0//EN
BEGIN:VEVENT
UID:69eb591c8fba8
DTSTAMP:20260424T075052
DTSTART:20260502T113000Z
DTEND:20260503T035900Z
TZID:America/New_York
LOCATION:Wesley Chapel District Park 7727 Boyette Road
SUMMARY:Freedom Run: The Race Against Poverty
DESCRIPTION: Freedom Run (5K &#038; 10K) &#8211; Saturday &#8211; May 2\,  2026 Welcome to the 10th annual Freedom Run! • Timed Event • Finisher medal for each participant • First place trophy for overall male and female runners • Age group awards (first place) This year’s event will take place at:[..]\nhttps://flsportscoast.com/event/freedom-run-the-race-against-poverty/
URL:https://flsportscoast.com/event/freedom-run-the-race-against-poverty/
END:VEVENT
END:VCALENDAR