BEGIN:VCALENDAR
VERSION:2.0
PRODID:-//eventon.com NONSGML v1.0//EN
BEGIN:VEVENT
UID:69eb41beb63b0
DTSTAMP:20260424T061110
DTSTART:20260315T180000Z
DTEND:20260315T200000Z
TZID:America/New_York
LOCATION:Richey Suncoast Theatre  6237 Grand Blvd
SUMMARY:New Port Richey Film Festival Returns to Celebrate Local Talent and “Hollywood of the East” Heritage
DESCRIPTION: Richey Suncoast Theatre is proud to announce the return of the New Port Richey Film Festival on Sunday\,  March 15th\,  from 2:00 pm to 4:00 pm. This community event is free and open to the public\,  honoring the city’s early history as a burgeoning film hub once slated to become[..]\nhttps://flsportscoast.com/event/new-port-richey-film-festival-returns-to-celebrate-local-talent-and-hollywood-of-the-east-heritage/
URL:https://flsportscoast.com/event/new-port-richey-film-festival-returns-to-celebrate-local-talent-and-hollywood-of-the-east-heritage/
END:VEVENT
END:VCALENDAR