BEGIN:VCALENDAR
VERSION:2.0
PRODID:-//eventon.com NONSGML v1.0//EN
BEGIN:VEVENT
UID:69eb3c90dd165
DTSTAMP:20260424T054904
DTSTART:20260314T210000Z
DTEND:20260315T020000Z
TZID:America/New_York
LOCATION:Sims Park 6341 Bank Street
SUMMARY:Free Concert in the Park: Tribute to Bobby Weir ft. Dead Set Florida
DESCRIPTION: SAT.\,  MARCH 14TH 🎶🌹 Dead Set Florida brings the spirit of Bobby Weir and the Grateful Dead to the park for a laid-back\,  jam-filled night of timeless grooves\,  improvisation\,  and feel-good energy. Arrive early for a community drum circle\,  then settle in for a two-set live performance under the stars.[..]\nhttps://flsportscoast.com/event/free-concert-in-the-park-tribute-to-bobby-weir-ft-dead-set-florida/
URL:https://flsportscoast.com/event/free-concert-in-the-park-tribute-to-bobby-weir-ft-dead-set-florida/
END:VEVENT
END:VCALENDAR