BEGIN:VCALENDAR
VERSION:2.0
PRODID:-//eventon.com NONSGML v1.0//EN
BEGIN:VEVENT
UID:69eb3c91aeb7c
DTSTAMP:20260424T054905
DTSTART:20251206T000000Z
DTEND:20251206T020000Z
TZID:America/New_York
LOCATION:Pioneer Florida Museum 15602 Pioneer Museum Rd\,  Dade City\,  FL\,  United States\,  Florida 33523
SUMMARY:Dade City Christmas Parade
DESCRIPTION: The Parade Route is Downtown Dade City on 7th Street\,  starting at MLK Blvd to Church Street. The parade is presented by Saint Leo University and Pasco County Professional Firefighters 4420. Other great sponsors do far include: LA MAIDA LAW and Fast and Furriest Paw Walkers. The theme this year[..]\nhttps://flsportscoast.com/event/dade-city-christmas-parade-2/
URL:https://flsportscoast.com/event/dade-city-christmas-parade-2/
END:VEVENT
END:VCALENDAR