BEGIN:VCALENDAR
VERSION:2.0
PRODID:-//eventon.com NONSGML v1.0//EN
BEGIN:VEVENT
UID:69eb591a1a09c
DTSTAMP:20260424T075050
DTSTART:20250927T140000Z
DTEND:20251026T210000Z
TZID:America/New_York
LOCATION:Dade City Farms 17143 Lake Iola Rd
SUMMARY:Fall Festival at Dade City Farms
DESCRIPTION: 🍂🐴 Fall Fun Awaits at Dade City Farms! Make unforgettable memories at the Fall Festival\,  where family-friendly fun meets seasonal charm. Dive into the giant corn bin\,  hop on a tractor hayride\,  and let the kids explore the tire playground and pony rides. 🎃 Snap the perfect photo in the[..]\nhttps://flsportscoast.com/event/fall-festival-at-dade-city-farms/
URL:https://flsportscoast.com/event/fall-festival-at-dade-city-farms/
END:VEVENT
END:VCALENDAR